BEGIN:VCALENDAR
VERSION:2.0
PRODID:-//https://inscriptions.webservices.re///NONSGML kigkonsult.se iCalcreator 2.10.15//
METHOD:PUBLISH
BEGIN:VEVENT
UID:20260420T122230CEST-17327HVBOX@https://inscriptions.webservices.re/
DTSTAMP:20260420T102230Z
DESCRIPTION:Départ: La Piscine du Port Rue TamataveArrivée: La Piscine du P
 ort Rue TamataveDistance: 110kmClôture des inscriptions:&nbsp\;Jeudi 07 Ma
 i 2020 à 12h\nLes dossards seront à retirer sur présentation d'une pièce d
 'identité\, aux lieux et dates suivants :&nbsp\;-&nbsp\; A venir...\nAucun
  retrait de dossard ne se fera sur le lieu de la manifestation. https://in
 scriptions.webservices.re/index.php/events/evenement/356-love-le-vélo-110k
 m
DTSTART;VALUE=DATE:20200301
LOCATION:Saint-Philippe (21 Route Labourdonnais\, 97442\, Réunion)
SUMMARY:Love Le Vélo - 110km
URL:https://inscriptions.webservices.re/index.php/events/evenement/356-love
 -le-vélo-110km
END:VEVENT
END:VCALENDAR
