BEGIN:VCALENDAR
VERSION:2.0
PRODID:-//https://inscriptions.webservices.re///NONSGML kigkonsult.se iCalcreator 2.10.15//
METHOD:PUBLISH
BEGIN:VEVENT
UID:20260420T122120CEST-1236fTbcaS@https://inscriptions.webservices.re/
DTSTAMP:20260420T102120Z
DESCRIPTION:TARIF: 5€ (à partir)5€ HT pour les licenciés FFTRI7€ HT pour le
 s non licenciés FFTRI\nAccueil: Plage de la citerne 46 à Saint-Leu de 7h00
 Clôture des inscriptions: ...\n(Retrouvez ci-dessous en téléchargement\, l
 e Règlement\, le Roadbook et le Pass Compétition à renvoyer avec votre ins
 cription)\n{rsfiles path='2021/event/2021-11-14-SwimRun-ORT/KIDS'} https:/
 /inscriptions.webservices.re/index.php/events/evenement/363-swimrun-kids-c
 ourse-xs-14-à-19-ans
DTSTART;VALUE=DATE:20211114
LOCATION:plage de la citerne 46 à St Leu (66-70 Rue du Lagon\, Saint-Leu\, 
 Réunion)
SUMMARY:SwimRun Kids - Course XS - 14 à 19 ans
URL:https://inscriptions.webservices.re/index.php/events/evenement/363-swim
 run-kids-course-xs-14-à-19-ans
END:VEVENT
END:VCALENDAR
