BEGIN:VCALENDAR
VERSION:2.0
PRODID:-//https://inscriptions.webservices.re///NONSGML kigkonsult.se iCalcreator 2.10.15//
METHOD:PUBLISH
BEGIN:VEVENT
UID:20260421T182259CEST-1062sOCpBs@https://inscriptions.webservices.re/
DTSTAMP:20260421T162259Z
DESCRIPTION:TARIF: 25€\nDépart: Saint-Denis (Route digue en face du vélodro
 me)Arrivée: Vélodrome Gabriel ChéfiareDistance:&nbsp\;65km\nLes dossards s
 eront à retirer sur présentation d'une pièce d'identité\, aux lieux et dat
 es suivants :&nbsp\;-&nbsp\; Le Jeudi 22 juillet 2021 chez Vélo et Oxygène
  (St Denis) aux heures d'ouverture du magasin.-&nbsp\; Le Vendredi 23 juil
 let 2021 au Comité de Cyclisme (St Paul) aux heures d'ouverture.-&nbsp\; L
 e Samedi 24 juillet 2021 chez Vélo et Oxygène (St Pierre) aux heures d'ouv
 erture du magasin.\nAucun retrait de dossard ne se fera sur le lieu de la 
 manifestation.\nEN RAISON DE LA CRISE SANITAIRE\, LES RISQUES DE NE PAS OB
 TENIR L’AUTORISATION ADMINISTRATIVE D'ORGANISER LA MANIFESTATION RESTENT I
 MPORTANT.DE CE FAIT ET AFIN D'EVITER LA GESTION DE REMBOURSEMENTS EVENTUEL
 S\, NOUS CHOISISSONS NE PAS COLLECTER LES DROITS D’ENGAMENT LORS DES INSCR
 IPTIONS EN LIGNE\, MAIS LORS DES RETRAITS DE DOSSARDS.VOUS REMERCIANT POUR
  VOTRE COMPREHENSION.L’ORGANISATION https://inscriptions.webservices.re/in
 dex.php/events/evenement/388-cyclotour-65km
DTSTART;VALUE=DATE:20210725
LOCATION:Vélodrome de Champ-Fleuri\, Saint-Denis\, Réunion (Route Digue\, S
 ainte-Clotilde\, Réunion)
SUMMARY:CYCLOTOUR 65km
URL:https://inscriptions.webservices.re/index.php/events/evenement/388-cycl
 otour-65km
END:VEVENT
END:VCALENDAR
