BEGIN:VCALENDAR
VERSION:2.0
PRODID:-//https://inscriptions.webservices.re///NONSGML kigkonsult.se iCalcreator 2.10.15//
METHOD:PUBLISH
BEGIN:VEVENT
UID:20260419T150420CEST-6890WPgPiH@https://inscriptions.webservices.re/
DTSTAMP:20260419T130420Z
DESCRIPTION:TARIF: 6€&nbsp\;\n'LIEU: Vélodrome G. Chefiare - Champ Fleuri'
 \nDate: Samedi 28 septembre&nbsp\;2024Catégories:&nbsp\;U7 et +Clôture des
  inscriptions:&nbsp\;Jeudi 26 septembre 2024 à 12H -&nbsp\;Vendredi 27 sep
 tembre 2024 à 12H\n\n\n\n“Participez à la Coupe Régionale Piste / Trophée 
 des Jeunes Pistards Journée 8\, un événement cycliste sur piste palpitant\
 , organisé par le VCSD. La compétition se tiendra le samedi 28 septembre 2
 024 au célèbre vélodrome G. Chéfiare à Champ Fleuri.\nCet événement est ou
 vert à tous\, à partir de la catégorie U7 et au-delà. Les cyclistes auront
  l’occasion de démontrer leur talent et leur endurance à travers plusieurs
  épreuves\, telles que :\n• 200M Lancé : Une course explosive où les parti
 cipants sprintent sur 200 mètres à pleine vitesse.\n • Scratch : Une cours
 e classique où le premier à franchir la ligne d’arrivée l’emporte.\n • Vit
 esse par équipe : Les équipes s’affrontent pour réaliser le meilleur temps
 .\n • Poursuite individuelle\n • Keirin\n • Course aux points&nbsp\;\nNe r
 atez pas cette opportunité de prendre part à une compétition intense et de
  célébrer l’esprit du cyclisme sur piste !” 🚴‍♂️🏆\nPROGRAMME:\n\n\n\n http
 s://inscriptions.webservices.re/index.php/events/evenement/654-crp-tjp-j8-
 samedi-28-septembre-2024
DTSTART;VALUE=DATE:20240928
LOCATION:Velodrome Gabriel Chefiare (11 rue Henri Leveneur\, Saint-Denis 97
 400\, La Réunion)
SUMMARY:CRP / TJP - J8 - Samedi 28 septembre 2024
URL:https://inscriptions.webservices.re/index.php/events/evenement/654-crp-
 tjp-j8-samedi-28-septembre-2024
END:VEVENT
END:VCALENDAR
