BEGIN:VCALENDAR
VERSION:2.0
PRODID:-//https://inscriptions.webservices.re///NONSGML kigkonsult.se iCalcreator 2.10.15//
METHOD:PUBLISH
BEGIN:VEVENT
UID:20260419T150209CEST-3706uI2gVB@https://inscriptions.webservices.re/
DTSTAMP:20260419T130209Z
DESCRIPTION:TARIF: 35€ Licenciés\, 45€ non-licenciés\nLES HORAIRES DE DEPAR
 TS\n\n5 Epreuves Chronométrées avec départ chaque minute - Liaisons à vélo
 \nDépart : Sommet du ColoradoRejoignez-nous pour une journée de descente p
 alpitante avec cinq spéciales chronométrées au cœur des montagnes. L’événe
 ment débutera au sommet du Colorado\, offrant des tracés techniques et var
 iés pour les amateurs de sensations fortes. Voici le programme des spécial
 es (SP) :\n• SP 1 : “Ravine Bail” (3 km) - Départ à 08h30• SP 2 : “Terrain
  Fleurié” (2\,5 km) - Départ à 09h30• SP 3 : “La Noire” (2\,8 km) - Départ
  à 11h00• SP 4 : “Théo-Valiamé” (3\,5 km) - Départ à 12h00• SP 5 : “Le Bal
 con” (2\,2 km) - Départ à 13h30Remontées au Colorado après la SP 1 et la S
 P 3 pour garantir une reprise rapide entre les épreuves.Les participants s
 eront répartis dans différentes catégories\, assurant un défi adapté à cha
 que niveau :\n• Dames : Juniors et Seniors• U15 : (niveau certifié uniquem
 ent)• U17 : 15-16 ans• U19 : 17-18 ans• Seniors : 19 à 39 ans• Masters 1 :
  40 ans et plus• Masters 2 : Plus de 50 ans• Vélos Assistance Électrique• 
 Non-Licenciés\nPréparez-vous à une journée intense de cyclisme en descente
  dans un cadre exceptionnel\, avec des remontées pour garder le rythme et 
 profiter pleinement de chaque spéciale !\nREGLEMENT:\n https://inscription
 s.webservices.re/index.php/events/evenement/655-enduro-marines-voyages
DTSTART;VALUE=DATE:20241117
LOCATION:La Montagne  (Chem. des Manguiers\, Saint-Denis 97400\, La Réunion
 )
SUMMARY:Enduro Marines Voyages
URL:https://inscriptions.webservices.re/index.php/events/evenement/655-endu
 ro-marines-voyages
END:VEVENT
END:VCALENDAR
