BEGIN:VCALENDAR
VERSION:2.0
PRODID:-//https://inscriptions.webservices.re///NONSGML kigkonsult.se iCalcreator 2.10.15//
METHOD:PUBLISH
BEGIN:VEVENT
UID:20260420T033013CEST-8963luk6ZU@https://inscriptions.webservices.re/
DTSTAMP:20260420T013013Z
DESCRIPTION:TARIF: 0€\névénement gratuit !&nbsp\; &nbsp\; &nbsp\; &nbsp\;CO
 MPLET\nDate: Dimanche 22 décembre 2024Départ / Arrivée:&nbsp\;Saint-LouisD
 istances:&nbsp\;10kmCatégorie d'âge:&nbsp\;à partir de CadetClôture des in
 scriptions:&nbsp\;Dimanche 15 décembre 2024 à 23h59Limite: 300 coureurs - 
 400 coureursRetrait des Dossards:&nbsp\;- Le samedi 21 décembre 2024\, de 
 9h00 à 14h00 sur le terrain Verval\n\n\n\n\n\n\nPréparez-vous pour Les Fou
 lées Vervales 2024\, une épreuve sportive organisée par la Team La Rivière
  ! Cet événement se déroulera le dimanche 22 décembre 2024 à Saint-Louis. 
 Venez relever le défi sur un parcours convivial\, dans une ambiance dynami
 que et festive. Que vous soyez coureur aguerri ou amateur\, cette course p
 romet une belle expérience sportive au cœur de Saint-Louis. 🏃‍♂️🌴\n\n\n\n
 \n\n\n\nRÈGLEMENT DE L'ÉPREUVE\n\n\nPLAN:&nbsp\;\n https://inscriptions.
 webservices.re/index.php/events/evenement/662-les-foulees-verval-2024
DTSTART;VALUE=DATE:20241222
LOCATION:La Rivière Saint-Louis (La Rivière Saint-Louis\, La Riviere 97450\
 , La Réunion)
SUMMARY:Les Foulees Verval 2024
URL:https://inscriptions.webservices.re/index.php/events/evenement/662-les-
 foulees-verval-2024
END:VEVENT
END:VCALENDAR
