BEGIN:VCALENDAR
VERSION:2.0
PRODID:-//https://inscriptions.webservices.re///NONSGML kigkonsult.se iCalcreator 2.10.15//
METHOD:PUBLISH
BEGIN:VEVENT
UID:20260420T025443CEST-8237RPSzsG@https://inscriptions.webservices.re/
DTSTAMP:20260420T005443Z
DESCRIPTION:TARIF: 8€ (à partir)\n'Ville de Bras-Panon'&nbsp\; &nbsp\; &nbs
 p\; &nbsp\;&nbsp\;\nFormat de Course: VTT X-CountryDate: Dimanche 2 févrie
 r 2025Départ / Arrivée :&nbsp\;Front de Mer - La Rivière des Roches à Bras
 -PanonCatégories:&nbsp\;à partir de U7 aux MASTERS / VTTAEClôture des insc
 riptions:&nbsp\;Vendredi 31 janvier 2025 à 12H00\nRejoignez la 1ère manche
  de la Coupe de VTT XCO 2025\, organisée par le VCE\, le dimanche 2 févrie
 r 2025 à Bras-Panon\, sur le superbe site du Front de Mer\, La Rivière des
  Roches.Au programme : un circuit de 4\,6 km\, à parcourir plusieurs fois 
 selon les catégories\, ouvert à tous les passionnés de VTT\, des U7 aux Ma
 sters\, sans oublier les VTTAE (Vélos à Assistance Électrique).Une épreuve
  incontournable pour débuter l’année en beauté et vivre l’intensité du VTT
  en compétition !\n\nREGLEMENT:\n\n\n&nbsp\; https://inscriptions.webservi
 ces.re/index.php/events/evenement/684-vtt-xc-des-vacoas-m1-vce
DTSTART;VALUE=DATE:20250202
LOCATION:Rivière des Roches Bras Panon (83 Rue Lamartine\, Bras-Panon 97412
 \, La Réunion)
SUMMARY:VTT XC des Vacoas - M1 - VCE
URL:https://inscriptions.webservices.re/index.php/events/evenement/684-vtt-
 xc-des-vacoas-m1-vce
END:VEVENT
END:VCALENDAR
