BEGIN:VCALENDAR
VERSION:2.0
PRODID:-//https://inscriptions.webservices.re///NONSGML kigkonsult.se iCalcreator 2.10.15//
METHOD:PUBLISH
BEGIN:VEVENT
UID:20260422T185913CEST-7209gbRJ5J@https://inscriptions.webservices.re/
DTSTAMP:20260422T165913Z
DESCRIPTION:TARIF: 10€\n'Championnat Régional du Contre la Montre individue
 l'\nLES HORAIRES DE DEPARTS:\n\n📍 Organisé par le Comité Régional de Cycli
 sme de la Réunion (CRCR)\n📅 Samedi 19 avril 2025 – ⏰ 1er départ à 13h00\nL
 e rendez-vous est donné aux spécialistes de l’effort solitaire ! Le CHAMPI
 ONNAT RÉGIONAL DU CONTRE-LA-MONTRE INDIVIDUEL revient pour désigner les me
 illeurs rouleurs de La Réunion sur deux parcours exigeants\, dans un cadre
  naturel exceptionnel.\n🔹 Format de course :\n• 14\,2 km ou 23\,3 km selon
  les catégories\n🔹 Départ :• Féminines U15-U17\, Garçons U17\, ACCESS -40a
 ns : Parking - Route Forestière du Vieux Port du Tremblet (RN2)• Catégorie
 s OPEN &amp\; ACCESS +40 ans : Mairie de Saint-Philippe (RN2)\n🔹 Arrivée :
 •&nbsp\;Sommet de la montée de Bois Blanc - face au restaurant le Bel Air
 \n🔹 Catégories ouvertes :• OPEN• ACCESS• Féminines U15 et plus• Garçons U1
 7\n📌 Clôture des inscriptions : Jeudi 17 avril 2025 à 12h00\nAucune inscri
 ption ne sera acceptée au-delà de cette date. Merci de vous inscrire dans 
 les temps pour garantir votre participation !\nPréparez vos braquets et ve
 nez défier le chrono dans ce championnat régional au format 100% CLMI ! 💪⏱
 ️\n\n\nREGLEMENT:\n\n\nPLANS:\n\n https://inscriptions.webservices.re/inde
 x.php/events/evenement/719-championnat-regional-clmi-crcr
DTSTART;VALUE=DATE:20250419
LOCATION:Saint-Philippe (21 Route Labourdonnais\, 97442\, Réunion)
SUMMARY:Championnat Regional CLMI - CRCR
URL:https://inscriptions.webservices.re/index.php/events/evenement/719-cham
 pionnat-regional-clmi-crcr
END:VEVENT
END:VCALENDAR
