BEGIN:VCALENDAR
VERSION:2.0
PRODID:-//https://inscriptions.webservices.re///NONSGML kigkonsult.se iCalcreator 2.10.15//
METHOD:PUBLISH
BEGIN:VEVENT
UID:20260421T105520CEST-4570TV9lGj@https://inscriptions.webservices.re/
DTSTAMP:20260421T085520Z
DESCRIPTION:TARIF: 10€\nMarche 5km Nocturne de Saint-Louis – 6 décembre 202
 5\nL’association TEAM LA RIVIÈRE (TLR)\, avec le soutien de la Municipalit
 é de Saint-Louis\, organise la toute première édition de la Foulée Nocturn
 e de Saint-Louis\, une épreuve pédestre unique en son genre\, qui aura lie
 u le samedi 6 décembre 2025.\nAu programme :\n🌙 Un trail de 10 km en noctu
 rne\, accessible dès la catégorie Cadet pour les licenciés et Espoir pour 
 les non-licenciés.\n🚶‍♂️ Une marche conviviale de 5 km\, ouverte aux march
 eurs à partir de 14 ans (mineurs obligatoirement accompagnés d’un adulte r
 esponsable).\n📍 Lieu de départ et d’arrivée\nMairie de Saint-Louis\n🕒 Hora
 ires de départ\n\n\n19h30 : Départ de la marche 5 km\n\n\n20h00 : Départ d
 e la Foulée Nocturne 10 km\n\n\n📌 Inscriptions\n📍 En ligne uniquement sur 
 www.topchrono.run\n🎟️ Tarifs :\n\n\n15 € pour le trail 10 km\n\n\n10 € pou
 r la marche 5 km⚠️ Clôture des inscriptions : dimanche 30 novembre 2025👥 P
 laces limitées : 300 coureurs (10 km) et 200 marcheurs (5 km)❌ Aucun trans
 fert d’inscription ne sera autorisé.&nbsp\;\n\n\n🎽 Remise des dossards\n\n
 \nVendredi 5 décembre de 14h à 18h à Trail Sport\, 20 Rue Luc Lorion\, Sai
 nt-Pierre\n\n\nSamedi 6 décembre de 9h à 13h au stade Théophile Hoarau\, S
 aint-Louis\n\n\n\nUn parcours nocturne accessible à tous\, une ambiance ch
 aleureuse au cœur de Saint-Louis\, et une belle occasion de vivre une expé
 rience sportive originale !\n📞 Infos : 06 92 60 05 85\n\nREGLEMENT:\n http
 s://inscriptions.webservices.re/index.php/events/evenement/777-marche-noct
 urne-de-saint-louis-5km-tlr
DTSTART;VALUE=DATE:20251206
LOCATION:Mairie Saint Louis (Saint-Louis 97450\, La Réunion)
SUMMARY:Marche Nocturne de Saint-Louis - 5km - TLR
URL:https://inscriptions.webservices.re/index.php/events/evenement/777-marc
 he-nocturne-de-saint-louis-5km-tlr
END:VEVENT
END:VCALENDAR
