BEGIN:VCALENDAR
VERSION:2.0
PRODID:-//https://inscriptions.webservices.re///NONSGML kigkonsult.se iCalcreator 2.10.15//
METHOD:PUBLISH
BEGIN:VEVENT
UID:20260420T015005CEST-34759xd9gc@https://inscriptions.webservices.re/
DTSTAMP:20260419T235005Z
DESCRIPTION:TARIF: 25€\n🚴‍♂️ CYCLO CIVIS 2026 - 45km\nLe Club Cycliste Sain
 t-Louisien (CCSL) vous donne rendez-vous le samedi 15 août 2026 pour la CY
 CLO CIVIS 2026\, une épreuve sur route mêlant défi sportif et panorama exc
 eptionnel.\n📍 Un parcours de 45 km au départ de Saint-Pierre (devant le ma
 gasin CYCLOZONE)\, en direction de Cilaos\, avec une arrivée au stade. Une
  montée exigeante qui mettra à l’épreuve endurance et détermination !\n👥 É
 preuve ouverte à partir de 15 ans\, accessible aux coureurs souhaitant rel
 ever le défi de la montée vers Cilaos.\n🕒 Départ : - 7h00\n🏆 Récompenses :
  Les 3 premiers de chaque catégorie seront récompensés.\n🔥 Une course inco
 ntournable pour les amateurs de cyclisme en montagne\, entre performance\,
  dépassement de soi et paysages uniques !\n\n&nbsp\;REGLEMENT:\n https://i
 nscriptions.webservices.re/index.php/events/evenement/874-cyclo-civis-ccsl
DTSTART;VALUE=DATE:20260815
LOCATION:CILAOS - Rue du Stade (1-11 Rue du Stade\, Réunion)
SUMMARY:Cyclo Civis - CCSL
URL:https://inscriptions.webservices.re/index.php/events/evenement/874-cycl
 o-civis-ccsl
END:VEVENT
END:VCALENDAR
