BEGIN:VCALENDAR
VERSION:2.0
PRODID:-//https://inscriptions.webservices.re///NONSGML kigkonsult.se iCalcreator 2.10.15//
METHOD:PUBLISH
BEGIN:VEVENT
UID:20260420T202315CEST-8452TI0gTv@https://inscriptions.webservices.re/
DTSTAMP:20260420T182315Z
DESCRIPTION:TARIF: 6€ à partir\nLe Grand Prix Cycliste Armand Henriette fai
 t son grand retour le dimanche 26 avril 2026 à Bras-Panon\, organisé par l
 e Vélo Sport Passion (VSP).\nCette épreuve promet un spectacle complet ave
 c un format en deux étapes pour les grandes catégories : une course en lig
 ne exigeante suivie d’un contre-la-montre décisif\, où stratégie\, puissan
 ce et gestion de l’effort feront la différence.\nLes plus jeunes ne seront
  pas en reste avec un circuit adapté de 2\,5 km\, idéal pour s’exprimer et
  vivre pleinement l’expérience de la compétition.\n📍 Émargement à partir d
 e 11h\n🚴‍♂️ Premier départ à 14h00\nEntre intensité\, technicité et esprit
  de compétition\, le Grand Prix Armand Henriette s’annonce comme un rendez
 -vous incontournable du calendrier cycliste à La Réunion.\nQue tu sois cou
 reur ou spectateur\, viens vibrer au rythme du peloton ! 🔥\n\n&nbsp\;REGLE
 MENT:\n https://inscriptions.webservices.re/index.php/events/evenement/875
 -gp-armand-henriette-vsp
DTSTART;VALUE=DATE:20260426
LOCATION:Crédit agricole Bras panon (58 Route Nationale 2\, Bras-Panon 9741
 2\, La Réunion)
SUMMARY:GP Armand Henriette - VSP
URL:https://inscriptions.webservices.re/index.php/events/evenement/875-gp-a
 rmand-henriette-vsp
END:VEVENT
END:VCALENDAR
