BEGIN:VCALENDAR
VERSION:2.0
PRODID:-//https://inscriptions.webservices.re///NONSGML kigkonsult.se iCalcreator 2.10.15//
METHOD:PUBLISH
BEGIN:VEVENT
UID:20260421T070219CEST-4394P0uVCV@https://inscriptions.webservices.re/
DTSTAMP:20260421T050219Z
DESCRIPTION:TARIF: 100€ht\nCourse Mbike Adventure Race sur 2 jours - SOLO\n
 **&nbsp\;Le tarif comprend :- la participation sur les deux jours\,&nbsp\;
 le méchoui du midi après la première étape\, le dîner\, la nuitée ainsi qu
 e le petit-déjeuner du deuxième jour.\n\n&nbsp\;🚵‍♂️ Mbike Adventure Race
 \nPlonge au cœur de l’aventure avec la&nbsp\;Mbike&nbsp\;Adventure Race\, 
 une épreuve de Cross Country Marathon (XCM) unique\, disputée sur 2 jours 
 consécutifs avec des étapes entièrement chronométrées.\nEntre effort\, str
 atégie et gestion de course\, chaque journée réserve son lot de défis sur 
 des parcours variés mêlant endurance\, technique et plaisir de pilotage&nb
 sp\;\nL’épreuve est ouverte à tous\, en Solo ou en Duo\, en vélo musculair
 e ou VTTAE\, pour permettre à chacun de vivre l’expérience à son rythme et
  selon ses objectifs.\nAccessible dès la catégorie Junior (15 ans)\, la&nb
 sp\;Mbike Adventure Race s’adresse aussi bien aux compétiteurs en quête de
  performance qu’aux passionnés de VTT à la recherche d’un défi hors du com
 mun.\n🔥 Deux jours. Une aventure. À toi de jouer.\n\n&nbsp\;REGLEMENT:\n h
 ttps://inscriptions.webservices.re/index.php/events/evenement/876-mbike-ad
 venture-race-solo
DTSTART:20260509T030000Z
DTEND:20260510T140000Z
LOCATION:ANALAMANGA  Madagascar (Analamanga\, Madagascar)
SUMMARY:MBike Adventure Race - SOLO
URL:https://inscriptions.webservices.re/index.php/events/evenement/876-mbik
 e-adventure-race-solo
END:VEVENT
END:VCALENDAR
