BEGIN:VCALENDAR
VERSION:2.0
PRODID:-//https://inscriptions.webservices.re///NONSGML kigkonsult.se iCalcreator 2.10.15//
METHOD:PUBLISH
BEGIN:VEVENT
UID:20260421T070714CEST-6672Umt8uG@https://inscriptions.webservices.re/
DTSTAMP:20260421T050714Z
DESCRIPTION:TARIF: 200€ht\nCourse Mbike Adventure Race sur 2 jours - DUO\n*
 *&nbsp\;Le tarif comprend :- la participation sur les deux jours\,&nbsp\;l
 e méchoui du midi après la première étape\, le dîner\, la nuitée ainsi que
  le petit-déjeuner du deuxième jour.\n\n&nbsp\;🚵‍♂️ Mbike Adventure Race\n
 Plonge au cœur de l’aventure avec la&nbsp\;Mbike&nbsp\;Adventure Race\, un
 e épreuve de Cross Country Marathon (XCM) unique\, disputée sur 2 jours co
 nsécutifs avec des étapes entièrement chronométrées.\nEntre effort\, strat
 égie et gestion de course\, chaque journée réserve son lot de défis sur de
 s parcours variés mêlant endurance\, technique et plaisir de pilotage&nbsp
 \;\nL’épreuve est ouverte à tous\, en Solo ou en Duo\, en vélo musculaire 
 ou VTTAE\, pour permettre à chacun de vivre l’expérience à son rythme et s
 elon ses objectifs.\nAccessible dès la catégorie Junior (15 ans)\, la&nbsp
 \;Mbike Adventure Race s’adresse aussi bien aux compétiteurs en quête de p
 erformance qu’aux passionnés de VTT à la recherche d’un défi hors du commu
 n.\n🔥 Deux jours. Une aventure. À toi de jouer.\n\n&nbsp\;REGLEMENT:\n htt
 ps://inscriptions.webservices.re/index.php/events/evenement/877-mbike-adve
 nture-race-duo
DTSTART:20260509T030000Z
DTEND:20260510T140000Z
LOCATION:ANALAMANGA  Madagascar (Analamanga\, Madagascar)
SUMMARY:MBike Adventure Race - DUO
URL:https://inscriptions.webservices.re/index.php/events/evenement/877-mbik
 e-adventure-race-duo
END:VEVENT
END:VCALENDAR
